BEGIN:VCALENDAR
VERSION:2.0
PRODID:-//jEvents 2.0 for Joomla//EN
CALSCALE:GREGORIAN
METHOD:PUBLISH
BEGIN:VEVENT
UID:540bc9eaa571368c6103b2c813dbdd1a
CATEGORIES:Gemeindehaus
CREATED:20250327T111726
SUMMARY:Spielmannszug 
DESCRIPTION:
DTSTAMP:20260425T232218
DTSTART:20260325T150000
DTEND:20260325T210000
SEQUENCE:0
TRANSP:OPAQUE
END:VEVENT
END:VCALENDAR