BEGIN:VCALENDAR
VERSION:2.0
PRODID:-//jEvents 2.0 for Joomla//EN
CALSCALE:GREGORIAN
METHOD:PUBLISH
BEGIN:VEVENT
UID:a2d635a1efc3d11f76d9cff832d20169
CATEGORIES:Gemeindehaus
CREATED:20250327T111318
SUMMARY:Kirchenchor
DESCRIPTION:
DTSTAMP:20260425T142726
DTSTART:20260413T160000
DTEND:20260413T190000
SEQUENCE:0
TRANSP:OPAQUE
END:VEVENT
END:VCALENDAR