BEGIN:VCALENDAR
VERSION:2.0
PRODID:-//jEvents 2.0 for Joomla//EN
CALSCALE:GREGORIAN
METHOD:PUBLISH
BEGIN:VEVENT
UID:869f4a6d7a0f90d0def20e6843d33568
CATEGORIES:Schutzhütte
CREATED:20260401T174209
SUMMARY:693799
DESCRIPTION:
DTSTAMP:20260425T123506
DTSTART:20260418T060000
SEQUENCE:0
TRANSP:OPAQUE
END:VEVENT
END:VCALENDAR