BEGIN:VCALENDAR
VERSION:2.0
PRODID:-//jEvents 2.0 for Joomla//EN
CALSCALE:GREGORIAN
METHOD:PUBLISH
BEGIN:VEVENT
UID:f0290debf682939b8d3bde86dbb2a4f3
CATEGORIES:Schutzhütte
CREATED:20260325T115513
SUMMARY:Betriebsausflug 
DESCRIPTION:
DTSTAMP:20260425T123510
DTSTART:20260424T060000
SEQUENCE:0
TRANSP:OPAQUE
END:VEVENT
END:VCALENDAR