BEGIN:VCALENDAR
VERSION:2.0
PRODID:-//jEvents 2.0 for Joomla//EN
CALSCALE:GREGORIAN
METHOD:PUBLISH
BEGIN:VEVENT
UID:1749b5b338baadf47176a9542195096a
CATEGORIES:Gemeindehaus
CREATED:20260323T111152
SUMMARY:690629
DESCRIPTION:
DTSTAMP:20260425T163744
DTSTART:20260516T060000
SEQUENCE:0
TRANSP:OPAQUE
END:VEVENT
END:VCALENDAR