BEGIN:VCALENDAR
VERSION:2.0
PRODID:-//jEvents 2.0 for Joomla//EN
CALSCALE:GREGORIAN
METHOD:PUBLISH
BEGIN:VEVENT
UID:2e572c6fe87e75063792a95cc591cafb
CATEGORIES:Schutzhütte
CREATED:20260320T105651
SUMMARY:Kindergeburtstag
DESCRIPTION:
DTSTAMP:20260426T020158
DTSTART:20260501T060000
SEQUENCE:0
TRANSP:OPAQUE
END:VEVENT
END:VCALENDAR