BEGIN:VCALENDAR
VERSION:2.0
PRODID:-//jEvents 2.0 for Joomla//EN
CALSCALE:GREGORIAN
METHOD:PUBLISH
BEGIN:VEVENT
UID:686680c02f4f5ad4d508ae48be95899f
CATEGORIES:Schutzhütte
CREATED:20260320T105553
SUMMARY:689675 Kindergeburtstag
DESCRIPTION:
DTSTAMP:20260425T193621
DTSTART:20260530T060000
SEQUENCE:0
TRANSP:OPAQUE
END:VEVENT
END:VCALENDAR