BEGIN:VCALENDAR
VERSION:2.0
PRODID:-//jEvents 2.0 for Joomla//EN
CALSCALE:GREGORIAN
METHOD:PUBLISH
BEGIN:VEVENT
UID:36dccba370bd7242550e69a79e5d73b3
CATEGORIES:Schutzhütte
CREATED:20260319T193715
SUMMARY:Spießbraten FFW
DESCRIPTION:
DTSTAMP:20260425T205852
DTSTART:20260926T060000
DTEND:20260927T150000
SEQUENCE:0
TRANSP:OPAQUE
END:VEVENT
END:VCALENDAR