BEGIN:VCALENDAR
VERSION:2.0
PRODID:-//jEvents 2.0 for Joomla//EN
CALSCALE:GREGORIAN
METHOD:PUBLISH
BEGIN:VEVENT
UID:4189f605b6946a1195d9b18a14d0fcab
CATEGORIES:Gemeindehaus
CREATED:20260319T191728
SUMMARY:JHV Spielmannszug
DESCRIPTION:
DTSTAMP:20260425T193618
DTSTART:20261031T070000
DTEND;VALUE=DATE:20261102
SEQUENCE:0
TRANSP:OPAQUE
END:VEVENT
END:VCALENDAR