BEGIN:VCALENDAR
VERSION:2.0
PRODID:-//jEvents 2.0 for Joomla//EN
CALSCALE:GREGORIAN
METHOD:PUBLISH
BEGIN:VEVENT
UID:ed4b54faa513f9e1a03276eb0a4703d7
CATEGORIES:Gemeindehaus
CREATED:20260319T191310
SUMMARY:Seniorentag
DESCRIPTION:
DTSTAMP:20260425T205833
DTSTART:20261128T070000
DTEND:20261128T160000
SEQUENCE:0
TRANSP:OPAQUE
END:VEVENT
END:VCALENDAR