BEGIN:VCALENDAR
VERSION:2.0
PRODID:-//jEvents 2.0 for Joomla//EN
CALSCALE:GREGORIAN
METHOD:PUBLISH
BEGIN:VEVENT
UID:6f7d3cb3580846d73e4e49895703a34d
CATEGORIES:Gemeindehaus
CREATED:20260319T191156
SUMMARY:Vereinsversammlung
DESCRIPTION:
DTSTAMP:20260425T205848
DTSTART:20261119T070000
DTEND:20261119T200000
SEQUENCE:0
TRANSP:OPAQUE
END:VEVENT
END:VCALENDAR