BEGIN:VCALENDAR
VERSION:2.0
PRODID:-//jEvents 2.0 for Joomla//EN
CALSCALE:GREGORIAN
METHOD:PUBLISH
BEGIN:VEVENT
UID:13e6a3bcc713aaaeb1c45673b23de1c8
CATEGORIES:Gemeindehaus
CREATED:20260319T191022
SUMMARY:St. Martin
DESCRIPTION:
DTSTAMP:20260425T205902
DTSTART:20261114T070000
DTEND:20261115T160000
SEQUENCE:0
TRANSP:OPAQUE
END:VEVENT
END:VCALENDAR