BEGIN:VCALENDAR
VERSION:2.0
PRODID:-//jEvents 2.0 for Joomla//EN
CALSCALE:GREGORIAN
METHOD:PUBLISH
BEGIN:VEVENT
UID:be04c98f822272526fb1ae9db932a107
CATEGORIES:Gemeindehaus
CREATED:20260319T184744
SUMMARY:Maibaumfest
DESCRIPTION:
DTSTAMP:20260425T123515
DTSTART:20260430T060000
DTEND;VALUE=DATE:20260502
SEQUENCE:0
TRANSP:OPAQUE
END:VEVENT
END:VCALENDAR