BEGIN:VCALENDAR
VERSION:2.0
PRODID:-//jEvents 2.0 for Joomla//EN
CALSCALE:GREGORIAN
METHOD:PUBLISH
BEGIN:VEVENT
UID:c50d4e065aad2a71ba5b5a72c1d617c4
CATEGORIES:Schutzhütte
CREATED:20260305T131056
SUMMARY:684808
DESCRIPTION:
DTSTAMP:20260426T024807
DTSTART;VALUE=DATE:20260612
DTEND;VALUE=DATE:20260613
SEQUENCE:0
TRANSP:OPAQUE
END:VEVENT
END:VCALENDAR