BEGIN:VCALENDAR
VERSION:2.0
PRODID:-//jEvents 2.0 for Joomla//EN
CALSCALE:GREGORIAN
METHOD:PUBLISH
BEGIN:VEVENT
UID:10056ace7f4c08a87ab21692ac051c92
CATEGORIES:Gemeindehaus
CREATED:20260302T150321
SUMMARY:683475
DESCRIPTION:
DTSTAMP:20260425T141327
DTSTART:20260313T070000
DTEND:20260313T160000
SEQUENCE:0
TRANSP:OPAQUE
END:VEVENT
END:VCALENDAR