BEGIN:VCALENDAR
VERSION:2.0
PRODID:-//jEvents 2.0 for Joomla//EN
CALSCALE:GREGORIAN
METHOD:PUBLISH
BEGIN:VEVENT
UID:a8b51d39060972f23e88a6f09aa55717
CATEGORIES:Gemeindehaus
CREATED:20260212T091425
SUMMARY:678181
DESCRIPTION:
DTSTAMP:20260425T212740
DTSTART:20260307T070000
DTEND:20260307T160000
SEQUENCE:0
TRANSP:OPAQUE
END:VEVENT
END:VCALENDAR