BEGIN:VCALENDAR
VERSION:2.0
PRODID:-//jEvents 2.0 for Joomla//EN
CALSCALE:GREGORIAN
METHOD:PUBLISH
BEGIN:VEVENT
UID:5c2e986c2f5353eca26533a7397c0c5c
CATEGORIES:Schutzhütte
CREATED:20260205T162422
SUMMARY:676731
DESCRIPTION:
DTSTAMP:20260425T232841
DTSTART:20260627T060000
DTEND:20260626T220000
SEQUENCE:0
TRANSP:OPAQUE
END:VEVENT
END:VCALENDAR