BEGIN:VCALENDAR
VERSION:2.0
PRODID:-//jEvents 2.0 for Joomla//EN
CALSCALE:GREGORIAN
METHOD:PUBLISH
BEGIN:VEVENT
UID:3f6d21824194ec4a4f071b59cbcb997e
CATEGORIES:Schutzhütte
CREATED:20260204T111723
SUMMARY:Waldkindergarten
DESCRIPTION:
DTSTAMP:20260425T111231
DTSTART:20260426T220000
DTEND:20260508T150000
SEQUENCE:0
TRANSP:OPAQUE
END:VEVENT
END:VCALENDAR