BEGIN:VCALENDAR
VERSION:2.0
PRODID:-//jEvents 2.0 for Joomla//EN
CALSCALE:GREGORIAN
METHOD:PUBLISH
BEGIN:VEVENT
UID:6657f9602777ea9c00a8b9b8b6cdb496
CATEGORIES:Gemeindehaus
CREATED:20260203T122500
SUMMARY:675915
DESCRIPTION:
DTSTAMP:20260426T033210
DTSTART:20260620T060000
DTEND:20260620T210000
SEQUENCE:0
TRANSP:OPAQUE
END:VEVENT
END:VCALENDAR