BEGIN:VCALENDAR
VERSION:2.0
PRODID:-//jEvents 2.0 for Joomla//EN
CALSCALE:GREGORIAN
METHOD:PUBLISH
BEGIN:VEVENT
UID:540bc9eaa571368c6103b2c813dbdd1a
CATEGORIES:Gemeindehaus
CREATED:19700101T010000
SUMMARY:Spielmannszug 
DESCRIPTION:
DTSTAMP:20260426T005755
DTSTART:20250402T140000
DTEND:20250402T200000
SEQUENCE:0
RRULE:FREQ=WEEKLY;COUNT=100;INTERVAL=1;BYDAY=WE
TRANSP:OPAQUE
END:VEVENT
END:VCALENDAR