BEGIN:VCALENDAR
VERSION:2.0
PRODID:-//jEvents 2.0 for Joomla//EN
CALSCALE:GREGORIAN
METHOD:PUBLISH
BEGIN:VEVENT
UID:a2d635a1efc3d11f76d9cff832d20169
CATEGORIES:Gemeindehaus
CREATED:19700101T010000
SUMMARY:Kirchenchor
DESCRIPTION:
DTSTAMP:20260425T185548
DTSTART:20250331T160000
DTEND:20250331T190000
SEQUENCE:0
RRULE:FREQ=WEEKLY;COUNT=100;INTERVAL=1;BYDAY=MO
TRANSP:OPAQUE
END:VEVENT
END:VCALENDAR